BEGIN:VCALENDAR
VERSION:2.0
PRODID:-//clickin.cc - ECPv6.11.2//NONSGML v1.0//EN
CALSCALE:GREGORIAN
METHOD:PUBLISH
X-WR-CALNAME:clickin.cc
X-ORIGINAL-URL:https://clickin.cc
X-WR-CALDESC:Veranstaltungen für clickin.cc
REFRESH-INTERVAL;VALUE=DURATION:PT1H
X-Robots-Tag:noindex
X-PUBLISHED-TTL:PT1H
BEGIN:VTIMEZONE
TZID:Europe/Vienna
BEGIN:DAYLIGHT
TZOFFSETFROM:+0100
TZOFFSETTO:+0200
TZNAME:CEST
DTSTART:20240331T010000
END:DAYLIGHT
BEGIN:STANDARD
TZOFFSETFROM:+0200
TZOFFSETTO:+0100
TZNAME:CET
DTSTART:20241027T010000
END:STANDARD
END:VTIMEZONE
BEGIN:VEVENT
DTSTART;TZID=Europe/Vienna:20240110T100000
DTEND;TZID=Europe/Vienna:20240110T120000
DTSTAMP:20260420T074754
CREATED:20231207T084636Z
LAST-MODIFIED:20231207T103925Z
UID:5892-1704880800-1704888000@clickin.cc
SUMMARY:WELCOME - Offene Sprechstunde
DESCRIPTION:„Welcome!“ – Diese Offene Sprechstunde im Generationenhaus Gratwein-Straßengel ist ein Beratungsangebot für alle Bürger:innen rund um die Themen Integration und Internationalität. \nAlle Termine im Frühling 2024: Mittwoch\, 10. Jänner\, 24. Jänner\, 7. Februar\, 21. Februar\, 6. März\, 20. März\, 3. April\, 17. April\, 8. Mai\, 22. Mai\, 5. Juni & 19. Juni 2024 – jeweils von 10:00 – 12:00 Uhr. \nInfos & Anmeldung unter team@clickin.cc oder 0676/866-32-456.
URL:https://clickin.cc/termine/welcome-offene-sprechstunde/2024-01-10/
LOCATION:Generationenhaus Gratwein-Straßengel\, Hauptplatz 5\, Gratwein-Straßengel\, 8112
CATEGORIES:GENERATIONENHAUS,WELCOME
ATTACH;FMTTYPE=image/png:https://clickin.cc/wp-content/uploads/2023/12/Sprechstunde-Integration.png
END:VEVENT
BEGIN:VEVENT
DTSTART;TZID=Europe/Vienna:20240110T090000
DTEND;TZID=Europe/Vienna:20240110T100000
DTSTAMP:20260420T074754
CREATED:20231204T105250Z
LAST-MODIFIED:20231207T103830Z
UID:5718-1704877200-1704880800@clickin.cc
SUMMARY:Fit mit Baby
DESCRIPTION:Jeden Mittwoch\, von 9:00 bis 11:00 Uhr\, haben Eltern die Möglichkeit an einer kostenlosen „Fit mit Baby“-Einheit im Generationenhaus Gratwein-Straßengel  teilzunehmen. Dort steht ein gemeinsames Training für Eltern und Babys am Programm\, welches die Bindung zum Baby fördert und die eigene Fitness steigert. \nDas Angebot richtet sich an Mamas\, Papas und alle\, die Spaß an gemeinsamer Bewegung haben. \nInfos & Anmeldung unter team@clickin.cc oder 0676/866-32-456.
URL:https://clickin.cc/termine/fit-mit-baby/2024-01-10/
LOCATION:Generationenhaus Gratwein-Straßengel\, Hauptplatz 5\, Gratwein-Straßengel\, 8112
CATEGORIES:GENERATIONENHAUS
ATTACH;FMTTYPE=image/png:https://clickin.cc/wp-content/uploads/2023/12/Fit-mit-Baby-neu.png
END:VEVENT
END:VCALENDAR