BEGIN:VCALENDAR
VERSION:2.0
PRODID:-//clickin.cc - ECPv6.11.2//NONSGML v1.0//EN
CALSCALE:GREGORIAN
METHOD:PUBLISH
X-ORIGINAL-URL:https://clickin.cc
X-WR-CALDESC:Veranstaltungen für clickin.cc
REFRESH-INTERVAL;VALUE=DURATION:PT1H
X-Robots-Tag:noindex
X-PUBLISHED-TTL:PT1H
BEGIN:VTIMEZONE
TZID:Europe/Vienna
BEGIN:DAYLIGHT
TZOFFSETFROM:+0100
TZOFFSETTO:+0200
TZNAME:CEST
DTSTART:20260329T010000
END:DAYLIGHT
BEGIN:STANDARD
TZOFFSETFROM:+0200
TZOFFSETTO:+0100
TZNAME:CET
DTSTART:20261025T010000
END:STANDARD
END:VTIMEZONE
BEGIN:VEVENT
DTSTART;TZID=Europe/Vienna:20260506T150000
DTEND;TZID=Europe/Vienna:20260506T150000
DTSTAMP:20260426T052624
CREATED:20251210T094445Z
LAST-MODIFIED:20251210T094445Z
UID:8413-1778079600-1778079600@clickin.cc
SUMMARY:Jugendsprechtag
DESCRIPTION:Zweimal im Jahr veranstaltet die Marktgemeinde Gratwein-Straßengel in Kooperation mit dem ClickIn Jugendsprechtage\, an denen Kinder und Jugendliche die Möglichkeit haben\, direkt mit den Vertreter:innen der Gemeinde in Austausch zu treten\, Wünsche und Anliegen zu äußern\, Fragen zu stellen oder eigene Ideen vorzustellen. Diese Jugendsprechtage im Rahmen von Kinder- & Jugendbeteiligung leisten damit einen wichtigen Beitrag\, um junge Menschen aktiv am Gemeindeleben zu beteiligen. \nDas Angebot richtet sich an Kinder und Jugendliche und ist kostenlos. \nInfos & Anmeldung unter team@clickin.cc oder 0664/25 21 444.
URL:https://clickin.cc/termine/jugendsprechtag-2/
LOCATION:Jugendzentrum Gratwein-Straßengel\, Schulgasse 10\, Gratwein-Straßengel\, 8112
ATTACH;FMTTYPE=image/jpeg:https://clickin.cc/wp-content/uploads/2025/12/Jugendsprechtag-1-2026-scaled.jpg
END:VEVENT
END:VCALENDAR